BEGIN:VCALENDAR
VERSION:2.0
PRODID:-//Tukios.com/
BEGIN:VEVENT
UID:cf62b3a6-1d5a-429d-a121-cf82ae4277b1@www.brockmanboeckmanfh.com
DTSTAMP:20260421T014141Z
DTSTART:20260423
SUMMARY:Burial
DESCRIPTION:
URL:https://www.brockmanboeckmanfh.com/obituaries/david-halterman
LOCATION:Green Park Cemetery 921 Blaine Pike  Portland IN 47371
GEO:40.4225335;-84.9920438
END:VEVENT
END:VCALENDAR