BEGIN:VCALENDAR
VERSION:2.0
PRODID:-//Tukios.com/
BEGIN:VEVENT
UID:aa3764a5-955b-4bcc-9d2f-3f142235b323@www.brockmanboeckmanfh.com
DTSTAMP:20260421T013802Z
DTSTART:20260423T143000Z
DTEND:20260423T153000Z
SUMMARY:Visitation
DESCRIPTION:
URL:https://www.brockmanboeckmanfh.com/obituaries/david-halterman
LOCATION:Brockman Boeckman Funeral Home 308 S Wayne St  Fort Recovery OH 
	45846
GEO:40.4092829;-84.7804972
END:VEVENT
END:VCALENDAR