BEGIN:VCALENDAR
VERSION:2.0
PRODID:-//Tukios.com/
BEGIN:VEVENT
UID:948c8561-81a9-4ee4-8e2a-8c6331bdaeb3@www.brockmanboeckmanfh.com
DTSTAMP:20260421T013546Z
DTSTART:20260423T153000Z
DTEND:20260423T163000Z
SUMMARY:Celebration of Life
DESCRIPTION:
URL:https://www.brockmanboeckmanfh.com/obituaries/david-halterman
LOCATION:Brockman Boeckman Funeral Home 308 S Wayne St  Fort Recovery OH 
	45846
GEO:40.4092829;-84.7804972
END:VEVENT
END:VCALENDAR